BEGIN:VCALENDAR
VERSION:2.0
PRODID:-//wp-events-plugin.com//7.2.1//EN
TZID:Europe/Paris
X-WR-TIMEZONE:Europe/Paris
BEGIN:VEVENT
UID:316@cma-normandie.fr
DTSTART;TZID=Europe/Paris:20251117T110000
DTEND;TZID=Europe/Paris:20251117T120000
DTSTAMP:20250811T152347Z
URL:https://cma-normandie.fr/agenda/webinaire-google-quelles-taches-automa
 tiser-avec-lia/
SUMMARY:Webinaire GOOGLE "Quelles tâches automatiser avec l'IA ?"
DESCRIPTION:Webinaire animé par Google.\n&nbsp\;\nDans un monde en constan
 te évolution technologique\, l'intelligence artificielle (IA) se révèle
  être un atout majeur pour optimiser notre quotidien. En partenariat avec
  la CMA Normandie\, Google\, leader en la matière\, propose un webinaire 
 exclusif pour vous guider dans l'automatisation de vos tâches grâce à l
 'IA. Découvrez comment déléguer efficacement certaines missions\, optim
 iser votre temps et maîtriser les techniques avancées de prompting pour 
 des résultats sur mesure.\n\nDécouvrir les tâches délégables à l'IA\
 nL'IA permet d'automatiser des tâches répétitives et chronophages\, tel
 les que la gestion des emails\, la planification\, l'analyse de données e
 t le service client. En confiant ces missions à l'IA\, vous gagnez du tem
 ps pour des activités à plus forte valeur ajoutée.\n\nOptimiser votre q
 uotidien\nL'automatisation des tâches grâce à l'IA améliore la qualit
 é de votre travail et réduit les erreurs humaines. L'IA offre une préci
 sion accrue\, une disponibilité 24h/24 et 7j/7 et une adaptabilité sans 
 précédent\, augmentant ainsi votre productivité.\n\nAtelier pratique : 
 Maîtriser le prompting avancé\nPour tirer pleinement parti de l'IA\, il 
 est essentiel de maîtriser les techniques de prompting avancé. Lors de n
 otre atelier\, vous apprendrez à formuler des requêtes précises pour ob
 tenir des résultats optimaux. Soyez précis\, utilisez des exemples et af
 finez vos requêtes pour des résultats sur mesure.\nNe manquez pas ce web
 inaire pour découvrir les potentialités de l'IA et l'intégrer dans votr
 e quotidien. Inscrivez-vous dès maintenant et préparez-vous à révoluti
 onner votre façon de travailler.\n&nbsp\;\n\nInscription gratuite obliga
 toire ICI
ATTACH;FMTTYPE=image/jpeg:https://cma-normandie.fr/wp-content/uploads/2025
 /08/IA-Automatisation.jpg
CATEGORIES:Webinaire
END:VEVENT
BEGIN:VTIMEZONE
TZID:Europe/Paris
X-LIC-LOCATION:Europe/Paris
BEGIN:STANDARD
DTSTART:20251026T020000
TZOFFSETFROM:+0200
TZOFFSETTO:+0100
TZNAME:CET
END:STANDARD
END:VTIMEZONE
END:VCALENDAR