BEGIN:VCALENDAR
VERSION:2.0
PRODID:-//wp-events-plugin.com//7.2.1//EN
TZID:Europe/Paris
X-WR-TIMEZONE:Europe/Paris
BEGIN:VEVENT
UID:528@cma-normandie.fr
DTSTART;TZID=Europe/Paris:20260608T180000
DTEND;TZID=Europe/Paris:20260608T203000
DTSTAMP:20260421T054632Z
URL:https://cma-normandie.fr/agenda/reunion-cession-transmission-val-saint
 -pere/
SUMMARY:Réunion d'information - Retraite et transmission d'entreprise
DESCRIPTION:&nbsp\;\nRéunion d'information reprise et transmission au Val-
 Saint-Père (Manche) – 8 juin 2026\nVous avez un projet de reprise ou de
  transmission d’entreprise dans la Manche ?\nParticipez à la Réunion d
 'information Reprise Transmission au Val-Saint-Père\, un événement grat
 uit dédié aux chefs d’entreprise\, futurs cédants et repreneurs.\n
 📍 Lieu : Salle Victor Chesnel – 14 rue des Écoles\, Val-Saint-Père
 📅 Date : Lundi 8 juin 2026🕡 Horaire : de 18h à 20h30\n&nbsp\;\nUn 
 événement dédié à la reprise et à la transmission d’entreprise\nCe
 t évènement vous permet de rencontrer gratuitement et individuellement\,
  en un seul lieu\, les principaux experts de la cession et reprise d’ent
 reprise :\n\n\n 	Conseillers CMA et CCI\,\n 	ainsi que des représentants 
 de la CARSAT\,\n\nqui seront présents pour répondre à vos questions et 
 vous accompagner dans vos démarches.\nUn temps d’échanges pour faire a
 vancer votre projet\nQue vous soyez en réflexion\, en recherche de repren
 eur ou déjà engagé dans une démarche de transmission\, cet événement
  est l’occasion de faire le point sur votre situation et d’obtenir des
  conseils concrets adaptés à votre projet.\n\nInformations et inscriptio
 n\n👉 Inscription obligatoire\nNe manquez pas ce rendez-vous incontourna
 ble de la reprise et transmission d’entreprise en Normandie.\n&gt\;&gt\;
 &gt\; Inscrivez-vous en cliquant ici &lt\;&lt\;&lt\;\n\n&nbsp\;\n\n
ATTACH;FMTTYPE=image/jpeg:https://cma-normandie.fr/wp-content/uploads/2026
 /03/Vignette-Agenda-Retraite-et-transmission-Val-Saint-Pere.jpg
CATEGORIES:Réunion d'information
LOCATION:Val-Saint-Père\, 14 rue des écoles\, Val-Saint-Père\, 50300\, F
 rance
X-APPLE-STRUCTURED-LOCATION;VALUE=URI;X-ADDRESS=14 rue des écoles\, Val-Sa
 int-Père\, 50300\, France;X-APPLE-RADIUS=100;X-TITLE=Val-Saint-Père:geo:
 0,0
END:VEVENT
BEGIN:VTIMEZONE
TZID:Europe/Paris
X-LIC-LOCATION:Europe/Paris
BEGIN:DAYLIGHT
DTSTART:20260329T030000
TZOFFSETFROM:+0100
TZOFFSETTO:+0200
TZNAME:CEST
END:DAYLIGHT
END:VTIMEZONE
END:VCALENDAR