BEGIN:VCALENDAR
VERSION:2.0
PRODID:-//wp-events-plugin.com//7.2.1//EN
TZID:Europe/Paris
X-WR-TIMEZONE:Europe/Paris
BEGIN:VEVENT
UID:534@cma-normandie.fr
DTSTART;TZID=Europe/Paris:20260601T180000
DTEND;TZID=Europe/Paris:20260601T203000
DTSTAMP:20260416T112002Z
URL:https://cma-normandie.fr/agenda/reunion-cession-transmission-caen/
SUMMARY:Réunion d'information - Retraite et transmission d'entreprise
DESCRIPTION:&nbsp\;\nRéunion d'information reprise et transmission à Caen
  (Calvados) – 1 juin 2026\nVous avez un projet de reprise ou de transmis
 sion d’entreprise dans le Calvados ?\nParticipez à la Réunion d'inform
 ation Reprise Transmission à Caen\, un événement gratuit dédié aux ch
 efs d’entreprise\, futurs cédants et repreneurs.\n📍 Lieu : CMA Norma
 ndie Siège de Caen –  2\, rue Claude Bloch\, 14000 Caen📅 Date : Lun
 di 1 juin 2026🕡 Horaire : de 18h à 20h30\n&nbsp\;\nUn événement déd
 ié à la reprise et à la transmission d’entreprise\nCet évènement vo
 us permet de rencontrer gratuitement et individuellement\, en un seul lieu
 \, les principaux experts de la cession et reprise d’entreprise :\n\n\n 
 	Conseillers CMA\,\n 	représentants de la CARSAT\n\nqui seront présents 
 pour répondre à vos questions et vous accompagner dans vos démarches.\n
 \nUne entreprise accompagnée par la CMA sera également présente pour pa
 rtager son expérience et témoigner de son parcours de reprise/transmissi
 on.\nUn temps d’échanges pour faire avancer votre projet\nQue vous soye
 z en réflexion\, en recherche de repreneur ou déjà engagé dans une dé
 marche de transmission\, cet événement est l’occasion de faire le poin
 t sur votre situation et d’obtenir des conseils concrets adaptés à vot
 re projet.\n\nInformations et inscription\n👉 Inscription obligatoire\nN
 e manquez pas ce rendez-vous incontournable de la reprise et transmission 
 d’entreprise en Normandie.\n&gt\;&gt\;&gt\; Inscrivez-vous en cliquant i
 ci &lt\;&lt\;&lt\;\n\n&nbsp\;\n\n
ATTACH;FMTTYPE=image/jpeg:https://cma-normandie.fr/wp-content/uploads/2026
 /03/Vignette-Agenda-Retraite-et-transmission-Val-Saint-Pere.jpg
CATEGORIES:Réunion d'information
LOCATION:CMA Normandie - Site de Caen\, 2 rue Claude Bloch\, Caen\, 14000\,
  France
X-APPLE-STRUCTURED-LOCATION;VALUE=URI;X-ADDRESS=2 rue Claude Bloch\, Caen\,
  14000\, France;X-APPLE-RADIUS=100;X-TITLE=CMA Normandie - Site de Caen:ge
 o:0,0
END:VEVENT
BEGIN:VTIMEZONE
TZID:Europe/Paris
X-LIC-LOCATION:Europe/Paris
BEGIN:DAYLIGHT
DTSTART:20260329T030000
TZOFFSETFROM:+0100
TZOFFSETTO:+0200
TZNAME:CEST
END:DAYLIGHT
END:VTIMEZONE
END:VCALENDAR