BEGIN:VCALENDAR
VERSION:2.0
PRODID:-//wp-events-plugin.com//7.2.1//EN
TZID:Europe/Paris
X-WR-TIMEZONE:Europe/Paris
BEGIN:VEVENT
UID:535@cma-normandie.fr
DTSTART;TZID=Europe/Paris:20260609T183000
DTEND;TZID=Europe/Paris:20260609T203000
DTSTAMP:20260420T135416Z
URL:https://cma-normandie.fr/agenda/reunion-cession-transmission-bernay/
SUMMARY:Réunion d'information - Retraite et transmission d'entreprise
DESCRIPTION:&nbsp\;\nRéunion d'information Retraite et Transmission à Ber
 nay (Eure) – 9 juin 2026\nVous avez un projet de transmission d’entrep
 rise dans l'Eure ?\nParticipez à la Réunion d'information Retraite Trans
 mission\, un événement gratuit dédié aux chefs d’entreprise et futur
 s cédants.\n📍 Lieu : Salle Bouteville de l'Intercom de Bernay – 1025
 \, route de Broglie\, 27300 Bernay📅 Date : Mardi 9 juin 2026🕡 Horair
 e : de 18h30 à 20h30\n&nbsp\;\nUn événement dédié à la transmission 
 d’entreprise\nCet évènement vous permet de rencontrer gratuitement\, e
 n un seul lieu\, les principaux experts de la retraite et cession d’entr
 eprise :\n\n\n 	conseillers CMA et CCI\,\n 	conseillers CARSAT\,\n 	consei
 llers AG2R la Mondiale\,\n\nprésents pour répondre à vos questions et v
 ous accompagner dans vos démarches.\nUn temps d’échanges pour faire av
 ancer votre projet\nQue vous soyez en réflexion\, en recherche de reprene
 ur ou déjà engagé dans une démarche de transmission\, cet événement 
 est l’occasion de faire le point sur votre situation et d’obtenir des 
 conseils concrets adaptés à votre projet.\n\nInformations et inscription
 \n👉 Inscription obligatoire\nNe manquez pas ce rendez-vous incontournab
 le de la retraite et transmission d’entreprise en Normandie.\n&gt\;&gt\;
 &gt\; Inscrivez-vous en cliquant ici &lt\;&lt\;&lt\;\n\n&nbsp\;\n\nEn part
 enariat avec : \n\n\n\n&nbsp\;
ATTACH;FMTTYPE=image/jpeg:https://cma-normandie.fr/wp-content/uploads/2026
 /03/Vignette-Agenda-Retraite-et-transmission-Val-Saint-Pere.jpg
CATEGORIES:Réunion d'information
LOCATION:Bernay\, 1025 Route de Broglie\, Bernay\, 27300\, France
X-APPLE-STRUCTURED-LOCATION;VALUE=URI;X-ADDRESS=1025 Route de Broglie\, Ber
 nay\, 27300\, France;X-APPLE-RADIUS=100;X-TITLE=Bernay:geo:0,0
END:VEVENT
BEGIN:VTIMEZONE
TZID:Europe/Paris
X-LIC-LOCATION:Europe/Paris
BEGIN:DAYLIGHT
DTSTART:20260329T030000
TZOFFSETFROM:+0100
TZOFFSETTO:+0200
TZNAME:CEST
END:DAYLIGHT
END:VTIMEZONE
END:VCALENDAR