BEGIN:VCALENDAR
VERSION:2.0
PRODID:-//wp-events-plugin.com//7.2.1//EN
TZID:Europe/Paris
X-WR-TIMEZONE:Europe/Paris
BEGIN:VEVENT
UID:94@cma-normandie.fr
DTSTART;TZID=Europe/Paris:20250306T173000
DTEND;TZID=Europe/Paris:20250306T193000
DTSTAMP:20241223T075706Z
URL:https://cma-normandie.fr/agenda/fjaorne/
SUMMARY:Remise des prix de la Fondation du Jeune Apprenti dans l'Orne
DESCRIPTION:La Fondation du Jeune Apprenti (FJA) met en lumière la réussi
 te de jeunes dans leur parcours de formation effectué dans une entreprise
  artisanale de Normandie et honore les maîtres d’apprentissage\, les en
 treprises et les Centres de Formations d’Apprentis (CFA) qui les ont for
 més et accompagnés tout au long de leurs parcours. Depuis plus de 45 ans
 \, plus de 3 500 jeunes ont ainsi été récompensés. Suite à la délib
 ération d'un jury\, 125 apprentis sont lauréat(e)s de l'édition 2024 en
  Normandie\, les prix sont remis sur 5 cérémonies départementales dont 
 celle-ci.\n\nLa remise des prix de la FJA dans l'Orne se tiendra Jeudi 6 m
 ars à 17h30  Salle André Rocton : 4 Rue du Champ Passais - 61700 Domfro
 nt en Poiraie\n\n\nInformation sur la FJA ICI
ATTACH;FMTTYPE=image/jpeg:https://cma-normandie.fr/wp-content/uploads/2024
 /04/FJA-Instagram-1080x1080-1.jpg
CATEGORIES:Concours/Prix
END:VEVENT
BEGIN:VTIMEZONE
TZID:Europe/Paris
X-LIC-LOCATION:Europe/Paris
BEGIN:STANDARD
DTSTART:20241027T020000
TZOFFSETFROM:+0200
TZOFFSETTO:+0100
TZNAME:CET
END:STANDARD
END:VTIMEZONE
END:VCALENDAR