BEGIN:VCALENDAR
VERSION:2.0
PRODID:-//wp-events-plugin.com//7.2.1//EN
TZID:Europe/Paris
X-WR-TIMEZONE:Europe/Paris
BEGIN:VEVENT
UID:505@cma-normandie.fr
DTSTART;TZID=Europe/Paris:20260401T000000
DTEND;TZID=Europe/Paris:20260930T235900
DTSTAMP:20260415T073917Z
URL:https://cma-normandie.fr/agenda/creation-entreprise-artisanale-normand
 ie/
SUMMARY:"Ma création d’entreprise\, 2h pour comprendre comment m’y pre
 ndre" – les prochaines dates en Normandie
DESCRIPTION:Vous avez un projet de création d’entreprise en Normandie ? 
 Vous êtes au bon endroit !\n\nLa réunion d’information « Ma créatio
 n d’entreprise\, 2h pour comprendre comment m’y prendre » organisée
  par la CMA Normandie (en présentiel ou en distanciel) vous donne :\n\n 	
 Les 1ères informations essentielles sur la création ou la reprise d’e
 ntreprise\,\n 	La présentation de l’accompagnement de la CMA Normandie.
 \n\n&nbsp\;\n\nNous nous conseillons vivement de suivre ces réunions en 
 présentiel et de choisir le format Visio en dernier recours afin d’opt
 imiser la compréhension et les échanges.\n\nCes réunions vous sont prop
 osées :\n\n 	en matinée\, les après-midi ou en soirée \n 	et sur plusi
 eurs lieux (Alençon\, Avranches\, Caen\, Cherbourg\, Coutances\, Dieppe\,
  Evreux\, Flers\, Forges-les-Eaux\, Le Havre\, Louviers\, Rouen)\n\n&nbsp\
 ;\n\nRetrouvez ici les prochaines dates et inscrivez-vous !
ATTACH;FMTTYPE=image/jpeg:https://cma-normandie.fr/wp-content/uploads/2024
 /11/Ma-creation-dentreprise-2h.jpg
CATEGORIES:Réunion d'information
END:VEVENT
BEGIN:VTIMEZONE
TZID:Europe/Paris
X-LIC-LOCATION:Europe/Paris
BEGIN:DAYLIGHT
DTSTART:20260329T030000
TZOFFSETFROM:+0100
TZOFFSETTO:+0200
TZNAME:CEST
END:DAYLIGHT
END:VTIMEZONE
END:VCALENDAR