BEGIN:VCALENDAR
VERSION:2.0
PRODID:-//wp-events-plugin.com//7.2.1//EN
TZID:Europe/Paris
X-WR-TIMEZONE:Europe/Paris
BEGIN:VEVENT
UID:546@cma-normandie.fr
DTSTART;TZID=Europe/Paris:20260528T100000
DTEND;TZID=Europe/Paris:20260528T123000
DTSTAMP:20260422T151112Z
URL:https://cma-normandie.fr/agenda/atelier-decouverte-lia-au-service-de-v
 otre-creativite-artisanale-a-la-cma-normandie-a-caen-14/
SUMMARY:Atelier découverte : L’IA au Service de Votre Créativité Artis
 anale\, à la CMA Normandie à Caen (14)
DESCRIPTION:🚀 Atelier Découverte : Concevez\, innovez et fabriquez avec
  l’intelligence artificielle – \n\n🔨 Vous êtes artisan\, designer 
 ou passionné de création ? Et si l’IA devenait votre meilleur allié p
 our booster vos projets en fabrication numérique ?          Imaginez
  :\n\n✅ Générer des motifs 2D en un clic (SVG) pour vos découpes viny
 le ou laser\, sans savoir dessiner.\n\n✅ Transformer une simple photo en
  modèle 3D prêt à imprimer ou usiner\, en quelques secondes.\n\n✅ Dé
 couvrir des outils accessibles pour donner vie à vos idées\, même sans 
 maîtrise de logiciels complexes.\n\n💡 Cet atelier est fait pour vous s
 i :\n\n✔ Vous voulez gagner du temps sur la conception de vos pièces.\n
 \n✔ Vous rêvez d’explorer de nouvelles techniques sans investir dans 
 des formations longues.\n\n✔ Vous êtes curieux de voir comment l’IA p
 eut simplifier votre processus créatif.\n\nL’atelier sera l’occasion 
 de visiter le tout nouvel Espace Innovation par le Numérique dans les loc
 aux de la CMA Normandie à destination des entreprises artisanales.\n\n A
 u programme :\n\n 	Visite de l’Espace Innovation par le Numérique de l
 a CMA Normandie\n 	Les outils d’IA pour la modélisation 2D : générat
 ion d’images\n\n 	Projets d’aménagements ou de rénovation\n 	Contour
 s de découpe ou gravure\n\n\n 	Les outils d’IA pour la modélisation 3D
 \n 	Réalisation collective d’un cas pratique pour la découpe et gravur
 e laser\n\nPublic :\n\nArtisans ou salariés d’entreprises\, Inscriptio
 n gratuite obligatoire  ICI\n\nNombre de places limité à 10.\n\nUne que
 stion sur l’atelier ?    Contact : François BUVRY CMA Normandie\n\
 nfbuvry@cma-normandie.fr
ATTACH;FMTTYPE=image/jpeg:https://cma-normandie.fr/wp-content/uploads/2026
 /04/inno_IA_conception.jpg
CATEGORIES:Ateliers
LOCATION:CMA Normandie - Site de Caen\, 2 rue Claude Bloch\, Caen\, 14000\,
  France
X-APPLE-STRUCTURED-LOCATION;VALUE=URI;X-ADDRESS=2 rue Claude Bloch\, Caen\,
  14000\, France;X-APPLE-RADIUS=100;X-TITLE=CMA Normandie - Site de Caen:ge
 o:0,0
END:VEVENT
BEGIN:VTIMEZONE
TZID:Europe/Paris
X-LIC-LOCATION:Europe/Paris
BEGIN:DAYLIGHT
DTSTART:20260329T030000
TZOFFSETFROM:+0100
TZOFFSETTO:+0200
TZNAME:CEST
END:DAYLIGHT
END:VTIMEZONE
END:VCALENDAR