BEGIN:VCALENDAR
VERSION:2.0
PRODID:-//wp-events-plugin.com//7.2.1//EN
TZID:Europe/Paris
X-WR-TIMEZONE:Europe/Paris
BEGIN:VEVENT
UID:547@cma-normandie.fr
DTSTART;TZID=Europe/Paris:20260528T140000
DTEND;TZID=Europe/Paris:20260528T163000
DTSTAMP:20260422T151946Z
URL:https://cma-normandie.fr/agenda/atelier-decouverte-de-la-decoupe-et-gr
 avure-laser-a-la-cma-normandie-a-caen-14/
SUMMARY:Atelier découverte de la découpe et gravure laser à la CMA Norma
 ndie à Caen (14)
DESCRIPTION:🔥 Boostez votre créativité avec la découpe et gravure las
 er ! 🔥\n\nArtisans\, et si vous donniez une nouvelle dimension à vos c
 réations ?\n\nLa Chambre de Métiers et de l’Artisanat Normandie vous i
 nvite à un atelier découverte gratuit pour explorer les possibilités in
 finies de la découpe et gravure laser ! En seulement 2h30\, transformez v
 os idées en objets uniques\, précis et personnalisés\, et découvrez co
 mment cette technologie peut révolutionner votre activité.\n\n🎯 Au pr
 ogramme :\n\n✅ Inspiration : Découvrez des exemples concrets d’utilis
 ation de la machine laser dans différents métiers artisanaux (bois\, mé
 tal\, cuir\, textile\, etc.).\n\n✅ Prise en main : Apprenez à utiliser 
 Inkscape\, un logiciel simple et gratuit\, pour créer vos propres plans n
 umériques en 2D.\n\n✅ À vous de jouer ! : Imaginez\, dessinez\, modél
 isez et réalisez votre premier objet grâce à la découpe et gravure las
 er (machine XTOOL F2)\, avec l’accompagnement des animateurs.\n\n💡 Po
 urquoi participer ?\n\n✔ Gagnez en précision : Réalisez des pièces su
 r mesure avec une finition impeccable.\n\n✔ Innovez : Créez des produit
 s uniques et personnalisés pour vos clients.\n\n✔ Gagnez du temps : Pro
 totypage rapide et production optimisée.\n\n✔ Découvrez une technologi
 e accessible : Pas besoin d’être un expert en numérique !\n\n✔ L’a
 telier sera l’occasion de visiter le tout nouvel Espace Innovation par l
 e Numérique dans les locaux de la CMA Normandie à destination des entrep
 rises artisanales.\n\n 📅 Infos pratiques :\n\n📍 Lieu : Espace Innov
 ation par le Numérique – CMA Normandie Caen ⏳ Durée : 2h30 🆓 Grat
 uit (sur inscription) 👥 Public : Artisans et salariés d’entreprises 
 artisanales\n\n🚀 Ne manquez pas cette opportunité de moderniser votre 
 savoir-faire et de vous différencier !\n\n📩 Inscrivez-vous dès mainte
 nant  ICI         Nombre de places limité à 10.\n\n \n\nUne qu
 estion sur l’atelier ?    Contact : François BUVRY CMA Normandie\n
 \nfbuvry@cma-normandie.fr
ATTACH;FMTTYPE=image/jpeg:https://cma-normandie.fr/wp-content/uploads/2026
 /04/inno_laser_cma.jpg
CATEGORIES:Ateliers
LOCATION:CMA Normandie - Site de Caen\, 2 rue Claude Bloch\, Caen\, 14000\,
  France
X-APPLE-STRUCTURED-LOCATION;VALUE=URI;X-ADDRESS=2 rue Claude Bloch\, Caen\,
  14000\, France;X-APPLE-RADIUS=100;X-TITLE=CMA Normandie - Site de Caen:ge
 o:0,0
END:VEVENT
BEGIN:VTIMEZONE
TZID:Europe/Paris
X-LIC-LOCATION:Europe/Paris
BEGIN:DAYLIGHT
DTSTART:20260329T030000
TZOFFSETFROM:+0100
TZOFFSETTO:+0200
TZNAME:CEST
END:DAYLIGHT
END:VTIMEZONE
END:VCALENDAR